BEGIN:VCALENDAR
VERSION:2.0
PRODID:-//Plone.org//NONSGML plone.app.event//EN
X-WR-TIMEZONE:Europe/Berlin
BEGIN:VEVENT
SUMMARY:Eine Veranstaltung
DTSTART;TZID=Europe/Berlin:20220614T160000
DTEND;TZID=Europe/Berlin:20220614T170000
DTSTAMP:20260421T054041Z
UID:b116598f0eb94d149715a5edd680d058@www.chemie.uni-bonn.de
CATEGORIES:fg-events
CREATED:20220611T150105Z
DESCRIPTION:Hier wir eine Beispielveranstaltung veranstaltet um zu zeigen 
 wie eine Veranstaltung auf der Webseite aussieht
LAST-MODIFIED:20221130T093450Z
URL:https://www.chemie.uni-bonn.de/de/events/eine-veranstaltung
END:VEVENT
BEGIN:VTIMEZONE
TZID:Europe/Berlin
X-LIC-LOCATION:Europe/Berlin
BEGIN:DAYLIGHT
DTSTART:20220327T030000
TZNAME:CEST
TZOFFSETFROM:+0100
TZOFFSETTO:+0200
END:DAYLIGHT
END:VTIMEZONE
END:VCALENDAR
