BEGIN:VCALENDAR
VERSION:2.0
PRODID:-//Plone.org//NONSGML plone.app.event//EN
X-WR-TIMEZONE:Europe/Berlin
BEGIN:VEVENT
SUMMARY:AC Kolloquium - Prof. Dr. J. Daniel Mindiola
DTSTART;TZID=Europe/Berlin:20251010T140000
DTEND;TZID=Europe/Berlin:20251010T153000
DTSTAMP:20260422T123252Z
UID:1179769b876047cfa1a86ffb1b3b8499@www.chemie.uni-bonn.de
CATEGORIES:ac-events,Lu-events
CREATED:20250930T095522Z
DESCRIPTION:Introducing Organometallics á la Carte \nHaving uncovered a n
 ew cycle for a titanium catalyzed dehydrogenation of linear and volatile a
 lkanes to -olefins has inspired us to pursue\, trap and isolate similar
  intermediates species involved in this important transformation (see Sche
 me below). We will begin by discussing the chemistry of titanium alkylidyn
 es and methylidenes\, and extending this work to vanadium alkylidynes and 
 their application in the cyclic polymerization of phenylacetylene via the 
 formation of highly charged and unsaturated deprotiometallacyclobutadienes
  (Course 1 and 2 on the menu). C-H bond activation\, including the activat
 ion of methane and the inspiration behind the Tebbe reagent will be briefl
 y discussed. Next in the menu (Course 3) will include the science uncovere
 d with a TiII fragment supported by a chelating phosphino-anilide ligand\,
  thus granting us access to an arsenal of one-coordinate pnictides includi
 ng its extension to Zr and V.
LAST-MODIFIED:20251009T062512Z
URL:https://www.chemie.uni-bonn.de/lu/de/lu-events/ac-kolloquium-prof-dr-j
 -daniel-mindiola
END:VEVENT
BEGIN:VTIMEZONE
TZID:Europe/Berlin
X-LIC-LOCATION:Europe/Berlin
BEGIN:DAYLIGHT
DTSTART:20250330T030000
TZNAME:CEST
TZOFFSETFROM:+0100
TZOFFSETTO:+0200
END:DAYLIGHT
END:VTIMEZONE
END:VCALENDAR
