BEGIN:VCALENDAR
VERSION:2.0
PRODID:-//Plone.org//NONSGML plone.app.event//EN
X-WR-TIMEZONE:Europe/Berlin
BEGIN:VEVENT
SUMMARY:AC Kolloquium - Professor Dr. Florian Kraus
DTSTART;TZID=Europe/Berlin:20241030T140000
DTEND;TZID=Europe/Berlin:20241030T153000
DTSTAMP:20260424T102108Z
UID:9dbdddfcdcf04b14978b0205ef02b90d@www.chemie.uni-bonn.de
CATEGORIES:ac-events,Lu-events
CREATED:20241024T124724Z
DESCRIPTION:"Einige Highlights aus unserer Fluor- und Uranchemie" \nElemen
 tares Fluor: Fluor ist äußerst reaktiv und kommt auf der Erde dennoch el
 ementar vor. Interhalogenfluoride: Das deutlich reaktivere ClF3 bildet die
  von uns entdeckten Verbindungen mit [ClF4]−- und [Cl3F10]−-Anionen so
 wie solche mit [ClF2]+-\,[ClOF2]+- und [ClO2]+-Kationen. Das höhere Homol
 oge BrF3 ist besser handhabbar und bildet die von uns neu beschriebenen An
 ionen [Br2F7]−\, [Br3F10]− u. [Br4F13]−mit 2-und 3fach verbrückende
 n Fluoridoliganden. Überraschenderweise gelang uns die Darstellung v. Ver
 bindungen mit 2-u. 3-kernigen Kationen [Br2F5]+ u. [Br3F8]+\, die die erst
 en mehrkernigen Interhalogenkationen darstellen. Uranchemie: Die allermeis
 ten Uranverbindungen enthalten das sehr stabile Uranyl(VI)-Kation [UO2]2+u
 . quasi jede Uran(III\, IV oder V)-Verbindung\, die mit Luft und Feuchtigk
 eit in Kontakt kommt\, wird zu Uranylverbindungen umgesetzt. Zum [UO2]2+-I
 on ([O≡U≡O]2+) wäre das [UN2]-Molekül isovalenzelektronisch ([N≡U
 ≡N]).
LAST-MODIFIED:20250906T002046Z
URL:https://www.chemie.uni-bonn.de/lu/de/lu-events/ac-kolloquium-professor
 -dr-florian-kraus
END:VEVENT
BEGIN:VTIMEZONE
TZID:Europe/Berlin
X-LIC-LOCATION:Europe/Berlin
BEGIN:STANDARD
DTSTART:20241027T020000
TZNAME:CET
TZOFFSETFROM:+0200
TZOFFSETTO:+0100
END:STANDARD
END:VTIMEZONE
END:VCALENDAR
