BEGIN:VCALENDAR
VERSION:2.0
PRODID:-//Plone.org//NONSGML plone.app.event//EN
X-WR-TIMEZONE:Europe/Berlin
BEGIN:VEVENT
SUMMARY:Theodor-Förster Lectures 2022-2023 - Professor Dr. Thorsten Bach
DTSTART;TZID=Europe/Berlin:20230124T170000
DTEND;TZID=Europe/Berlin:20230124T180000
DTSTAMP:20260425T205953Z
UID:a5dfdb156e094251a7e46d63da250a3d@www.chemie.uni-bonn.de
CATEGORIES:Lu-events,ac-events,fg-events
CREATED:20230113T105225Z
DESCRIPTION:Beyond the Conventional: Unique Synthetic Transformations Enab
 led by Light\n\nThorsten Bach ist einer der weltweit angesehensten Chemike
 r auf dem Gebiet der asymmetrischen Katalyse\, der Photochemie und der asy
 mmetrischen Photokatalyse\, der\nmit seinen Beiträgen der organischen Pho
 tochemie einen zentralen Stellenwert in der Chemie verschafft hat. Herr Pr
 ofessor Bach ist Jahrgang 1965 und hat Chemie in Heidelberg und Marburg st
 udiert und 1991 bei Manfred Reetz promoviert. Nach einem Postdoktorat bei 
 David Evans an der Harvard Universität habilitierte er sich 1996. Im Ansc
 hluß an seinen Habilitation wurde Herr Bach zunächst an die Universität
  Marburg und dann nach München berufen\, wo er seit 2000 den Lehrstuhl f
 ür Organische Chemie an der TU München innehat.
LAST-MODIFIED:20250906T002403Z
URL:https://www.chemie.uni-bonn.de/lu/de/lu-events/beyond-the-conventional
END:VEVENT
BEGIN:VTIMEZONE
TZID:Europe/Berlin
X-LIC-LOCATION:Europe/Berlin
BEGIN:STANDARD
DTSTART:20221030T020000
TZNAME:CET
TZOFFSETFROM:+0200
TZOFFSETTO:+0100
END:STANDARD
END:VTIMEZONE
END:VCALENDAR
