BEGIN:VCALENDAR
VERSION:2.0
PRODID:-//Plone.org//NONSGML plone.app.event//EN
X-WR-TIMEZONE:Europe/Berlin
BEGIN:VEVENT
SUMMARY:Prof. Cristina Puzzarini
DTSTART;TZID=Europe/Berlin:20260618T171500
DTEND;TZID=Europe/Berlin:20260618T181500
DTSTAMP:20260422T194440Z
UID:c83428a0d32c4dcf8af1d3063a510e39@www.chemie.uni-bonn.de
CATEGORIES:tc-seminar
CREATED:20221202T151740Z
DESCRIPTION:Bridging Lab and Space: Exotic Chemistry and Molecues in the I
 nterstellar Medium\n„Special seminar as part of the „Astrochemistry Sy
 nergy Bubble“ (TRA Matter)“
LAST-MODIFIED:20260416T155841Z
URL:https://www.chemie.uni-bonn.de/mctc/de/termine/tc-seminar-sose-2026-2
END:VEVENT
BEGIN:VTIMEZONE
TZID:Europe/Berlin
X-LIC-LOCATION:Europe/Berlin
BEGIN:DAYLIGHT
DTSTART:20260329T030000
TZNAME:CEST
TZOFFSETFROM:+0100
TZOFFSETTO:+0200
END:DAYLIGHT
END:VTIMEZONE
END:VCALENDAR
