BEGIN:VCALENDAR
VERSION:2.0
PRODID:-//Plone.org//NONSGML plone.app.event//EN
X-WR-TIMEZONE:Europe/Berlin
BEGIN:VEVENT
SUMMARY:KOPO 2024
DTSTART;TZID=Europe/Berlin:20240526T153000
DTEND;TZID=Europe/Berlin:20240529T120000
DTSTAMP:20260424T043711Z
UID:ebe07732fd8241428f97fefbb5c84a8a@www.chemie.uni-bonn.de
CATEGORIES:oc-events
CREATED:20231120T093013Z
DESCRIPTION:KOPO 2024\nCONJUGATED OLIGOMERS AND POLYMERS\n12th Workshop\nM
 ay 26-29\, 2024\nPhysikzentrum Bad Honnef
LAST-MODIFIED:20240202T143351Z
URL:https://www.chemie.uni-bonn.de/oc/de/veranstaltungen/kopo-2024
END:VEVENT
BEGIN:VTIMEZONE
TZID:Europe/Berlin
X-LIC-LOCATION:Europe/Berlin
BEGIN:DAYLIGHT
DTSTART:20240331T030000
TZNAME:CEST
TZOFFSETFROM:+0100
TZOFFSETTO:+0200
END:DAYLIGHT
END:VTIMEZONE
END:VCALENDAR
